BEGIN:VCALENDAR
VERSION:2.0
PRODID:-//eventon.com NONSGML v1.0//EN
BEGIN:VEVENT
UID:69ea99b7aa149
DTSTAMP:20260424T001415
DTSTART:20180111T220500Z
DTEND:20180112T215500Z
LOCATION:
SUMMARY:Bebra\,  Ellis Saal\,  Generation Teenietus
DESCRIPTION: Bebra\,  Ellis Saal\,  Generation Teenietus
END:VEVENT
END:VCALENDAR