BEGIN:VCALENDAR
VERSION:2.0
PRODID:-//eventon.com NONSGML v1.0//EN
BEGIN:VEVENT
UID:69eab34214ec1
DTSTAMP:20260424T020314
DTSTART:20170928T220500Z
DTEND:20170929T215500Z
LOCATION:
SUMMARY:Zirndorf\,  erlebe wigner!\,  Generation Teenietus
DESCRIPTION: Zirndorf\,  erlebe wigner!\,  Generation Teenietus
END:VEVENT
END:VCALENDAR