BEGIN:VCALENDAR
VERSION:2.0
PRODID:-//eventon.com NONSGML v1.0//EN
BEGIN:VEVENT
UID:69eac65d6d5dd
DTSTAMP:20260424T032445
DTSTART:20180223T220500Z
DTEND:20180224T215500Z
LOCATION:
SUMMARY:Dinslaken	\,  Dachstudio\,  Generation Teenietus
DESCRIPTION: Dinslaken	\,  Dachstudio\,  Generation Teenietus
END:VEVENT
END:VCALENDAR