BEGIN:VCALENDAR
VERSION:2.0
PRODID:-//eventon.com NONSGML v1.0//EN
BEGIN:VEVENT
UID:69eade94e0c5c
DTSTAMP:20260424T050804
DTSTART:20170727T220500Z
DTEND:20170728T215500Z
LOCATION:
SUMMARY:Düsseldorf\,  Savoy\,  NightWash (Mix)
DESCRIPTION: Düsseldorf\,  Savoy\,  NightWash (Mix)
END:VEVENT
END:VCALENDAR