BEGIN:VCALENDAR
VERSION:2.0
PRODID:-//eventon.com NONSGML v1.0//EN
BEGIN:VEVENT
UID:69eaf5970afb1
DTSTAMP:20260424T064615
DTSTART:20170320T220500Z
DTEND:20170321T215500Z
LOCATION:
SUMMARY:Stuttgart\,  Renitenz Theater\,  Stuttgarter Besen (Wettbewerb + TV Aufz.)
DESCRIPTION: Stuttgart\,  Renitenz Theater\,  Stuttgarter Besen (Wettbewerb + TV Aufz.)
END:VEVENT
END:VCALENDAR