BEGIN:VCALENDAR
VERSION:2.0
PRODID:-//eventon.com NONSGML v1.0//EN
BEGIN:VEVENT
UID:69eb0e9d5714b
DTSTAMP:20260424T083301
DTSTART:20170213T220500Z
DTEND:20170214T215500Z
LOCATION:
SUMMARY:Lorsch\,  Sapperlot\,  Kultursalon	 (Mix)
DESCRIPTION: Lorsch\,  Sapperlot\,  Kultursalon	 (Mix)
END:VEVENT
END:VCALENDAR