BEGIN:VCALENDAR
VERSION:2.0
PRODID:-//eventon.com NONSGML v1.0//EN
BEGIN:VEVENT
UID:69eb23db455f9
DTSTAMP:20260424T100339
DTSTART:20180525T220500Z
DTEND:20180526T215500Z
LOCATION:
SUMMARY:Bonn\,  Kulturraum Auerberg\,  Chill mal
DESCRIPTION: Bonn\,  Kulturraum Auerberg\,  Chill mal
END:VEVENT
END:VCALENDAR