BEGIN:VCALENDAR
VERSION:2.0
PRODID:-//eventon.com NONSGML v1.0//EN
BEGIN:VEVENT
UID:69eb50dc0e597
DTSTAMP:20260424T131540
DTSTART:20180313T220500Z
DTEND:20180314T215500Z
LOCATION:
SUMMARY:Schramberg\,  Subiaco in der Majolika\,  Generation Teenietus
DESCRIPTION: Schramberg\,  Subiaco in der Majolika\,  Generation Teenietus
END:VEVENT
END:VCALENDAR