BEGIN:VCALENDAR
VERSION:2.0
PRODID:-//eventon.com NONSGML v1.0//EN
BEGIN:VEVENT
UID:69eb68abac4e7
DTSTAMP:20260424T145715
DTSTART:20170118T220500Z
DTEND:20170119T215500Z
LOCATION:
SUMMARY:Gala (nicht öffentlich)
DESCRIPTION: Gala (nicht öffentlich)
END:VEVENT
END:VCALENDAR