BEGIN:VCALENDAR
VERSION:2.0
PRODID:-//eventon.com NONSGML v1.0//EN
BEGIN:VEVENT
UID:69eb7b329fc37
DTSTAMP:20260424T161618
DTSTART:20170911T220500Z
DTEND:20170912T215500Z
LOCATION:
SUMMARY:Hattingen\,  Best Of Nachtschnittchen (Mix)
DESCRIPTION: Hattingen\,  Best Of Nachtschnittchen (Mix)
END:VEVENT
END:VCALENDAR