BEGIN:VCALENDAR
VERSION:2.0
PRODID:-//eventon.com NONSGML v1.0//EN
BEGIN:VEVENT
UID:69eb953e94eed
DTSTAMP:20260424T180726
DTSTART:20170921T220500Z
DTEND:20170922T215500Z
LOCATION:
SUMMARY:Waldshut\,  Ali Theater\,  Generation Teenietus
DESCRIPTION: Waldshut\,  Ali Theater\,  Generation Teenietus
END:VEVENT
END:VCALENDAR