BEGIN:VCALENDAR
VERSION:2.0
PRODID:-//eventon.com NONSGML v1.0//EN
BEGIN:VEVENT
UID:69ebab978e456
DTSTAMP:20260424T194247
DTSTART:20170907T220500Z
DTEND:20170908T215500Z
LOCATION:
SUMMARY:St. Peter Ording\,  Dünen Hus\,  Generation Teenietus
DESCRIPTION: St. Peter Ording\,  Dünen Hus\,  Generation Teenietus
END:VEVENT
END:VCALENDAR