BEGIN:VCALENDAR
VERSION:2.0
PRODID:-//eventon.com NONSGML v1.0//EN
BEGIN:VEVENT
UID:69ebc27869073
DTSTAMP:20260424T212024
DTSTART:20170421T220500Z
DTEND:20170422T215500Z
LOCATION:
SUMMARY:Neuensalz\,  Kapelle Neuensalz	\,  Generation Teenietus
DESCRIPTION: Neuensalz\,  Kapelle Neuensalz	\,  Generation Teenietus
END:VEVENT
END:VCALENDAR