BEGIN:VCALENDAR
VERSION:2.0
PRODID:-//eventon.com NONSGML v1.0//EN
BEGIN:VEVENT
UID:69ebd9f5b0c54
DTSTAMP:20260424T230037
DTSTART:20180124T220500Z
DTEND:20180125T215500Z
LOCATION:
SUMMARY:Menden\,  Theater am Ziegelbrand\,  Generation Teenietus
DESCRIPTION: Menden\,  Theater am Ziegelbrand\,  Generation Teenietus
END:VEVENT
END:VCALENDAR