BEGIN:VCALENDAR
VERSION:2.0
PRODID:-//eventon.com NONSGML v1.0//EN
BEGIN:VEVENT
UID:69ebef0f7cb5a
DTSTAMP:20260425T003039
DTSTART:20171214T220500Z
DTEND:20171215T215500Z
LOCATION:
SUMMARY:Krefeld\,  Kufa\,  Generation Teenietus
DESCRIPTION: Krefeld\,  Kufa\,  Generation Teenietus
END:VEVENT
END:VCALENDAR