BEGIN:VCALENDAR
VERSION:2.0
PRODID:-//eventon.com NONSGML v1.0//EN
BEGIN:VEVENT
UID:69ec0589227dd
DTSTAMP:20260425T020633
DTSTART:20171023T220500Z
DTEND:20171024T215500Z
LOCATION:
SUMMARY:Zürich\,  Bernhard Theater	\,  Stand Up ! Comedy Show (Mix)
DESCRIPTION: Zürich\,  Bernhard Theater	\,  Stand Up ! Comedy Show (Mix)
END:VEVENT
END:VCALENDAR