BEGIN:VCALENDAR
VERSION:2.0
PRODID:-//eventon.com NONSGML v1.0//EN
BEGIN:VEVENT
UID:69ec1f2909580
DTSTAMP:20260425T035553
DTSTART:20200214T220500Z
DTEND:20200215T215500Z
LOCATION:
SUMMARY:Klausdorf\,  Vorpommernhus\,  Chill mal
DESCRIPTION: Klausdorf\,  Vorpommernhus\,  Chill mal
END:VEVENT
END:VCALENDAR