BEGIN:VCALENDAR
VERSION:2.0
PRODID:-//eventon.com NONSGML v1.0//EN
BEGIN:VEVENT
UID:69eb0f70065a0
DTSTAMP:20260424T083632
DTSTART:20210327T220000Z
DTEND:20210328T215900Z
LOCATION:
SUMMARY:Konstanz\,  K9\,  Chill mal
DESCRIPTION: Konstanz\,  K9\,  Chill mal
END:VEVENT
END:VCALENDAR