BEGIN:VCALENDAR
VERSION:2.0
PRODID:-//eventon.com NONSGML v1.0//EN
BEGIN:VEVENT
UID:69eaf6c61196d
DTSTAMP:20260424T065118
DTSTART:20210320T220000Z
DTEND:20200321T215900Z
LOCATION:
SUMMARY:Augsburg\,  Kresslesmühle\,  Chill mal
DESCRIPTION: Augsburg\,  Kresslesmühle\,  Chill mal
END:VEVENT
END:VCALENDAR