BEGIN:VCALENDAR
VERSION:2.0
PRODID:-//eventon.com NONSGML v1.0//EN
BEGIN:VEVENT
UID:69eae055d734d
DTSTAMP:20260424T051533
DTSTART:20201014T220000Z
DTEND:20201015T215900Z
LOCATION:
SUMMARY:Kassel\,  Komödie\,  Chill mal
DESCRIPTION: Kassel\,  Komödie\,  Chill mal
END:VEVENT
END:VCALENDAR