BEGIN:VCALENDAR
VERSION:2.0
PRODID:-//eventon.com NONSGML v1.0//EN
BEGIN:VEVENT
UID:69eac7c1b18cf
DTSTAMP:20260424T033041
DTSTART:20211204T220000Z
DTEND:20211205T215900Z
LOCATION:
SUMMARY:Ravensburg\,  Zehntscheuer\,  Chill mal
DESCRIPTION: Ravensburg\,  Zehntscheuer\,  Chill mal
END:VEVENT
END:VCALENDAR