BEGIN:VCALENDAR
VERSION:2.0
PRODID:-//eventon.com NONSGML v1.0//EN
BEGIN:VEVENT
UID:69ea99f105b0b
DTSTAMP:20260424T001513
DTSTART:20211028T220000Z
DTEND:20211029T215900Z
LOCATION:
SUMMARY:Höxter\,  KuStall Ottbergen\,  Chill mal
DESCRIPTION: Höxter\,  KuStall Ottbergen\,  Chill mal
END:VEVENT
END:VCALENDAR