BEGIN:VCALENDAR
VERSION:2.0
PRODID:-//eventon.com NONSGML v1.0//EN
BEGIN:VEVENT
UID:69ea670b11f49
DTSTAMP:20260423T203803
DTSTART:20201209T220000Z
DTEND:20201210T215900Z
LOCATION:
SUMMARY:Landstuhl\,  Stadthalle\,  Chill mal
DESCRIPTION: Landstuhl\,  Stadthalle\,  Chill mal
END:VEVENT
END:VCALENDAR