BEGIN:VCALENDAR
VERSION:2.0
PRODID:-//eventon.com NONSGML v1.0//EN
BEGIN:VEVENT
UID:69ea4d6510c0f
DTSTAMP:20260423T184837
DTSTART:20200725T220000Z
DTEND:20200726T215900Z
LOCATION:
SUMMARY:Aschaffenburg\,  Hofgarten Theater\,  Chill mal
DESCRIPTION: Aschaffenburg\,  Hofgarten Theater\,  Chill mal
END:VEVENT
END:VCALENDAR