BEGIN:VCALENDAR
VERSION:2.0
PRODID:-//eventon.com NONSGML v1.0//EN
BEGIN:VEVENT
UID:69ea36de7d36c
DTSTAMP:20260423T171230
DTSTART:20200813T220000Z
DTEND:20200814T215900Z
LOCATION:
SUMMARY:Obersulm\,  Kulturhaus\,  Chill mal
DESCRIPTION: Obersulm\,  Kulturhaus\,  Chill mal
END:VEVENT
END:VCALENDAR