BEGIN:VCALENDAR
VERSION:2.0
PRODID:-//eventon.com NONSGML v1.0//EN
BEGIN:VEVENT
UID:69ea071abf98d
DTSTAMP:20260423T134842
DTSTART:20200821T220000Z
DTEND:20200821T220000Z
LOCATION:
SUMMARY:Nümbrecht\,  Neue Orangerie\,  Chill mal (mit Leseteil)
DESCRIPTION: Nümbrecht\,  Neue Orangerie\,  Chill mal (mit Leseteil)
END:VEVENT
END:VCALENDAR