BEGIN:VCALENDAR
VERSION:2.0
PRODID:-//eventon.com NONSGML v1.0//EN
BEGIN:VEVENT
UID:69e9efe38f117
DTSTAMP:20260423T120939
DTSTART:20201114T220000Z
DTEND:20201115T215900Z
LOCATION:
SUMMARY:Dischingen\,  Kultur in der Arche\,  Chill mal
DESCRIPTION: Dischingen\,  Kultur in der Arche\,  Chill mal
END:VEVENT
END:VCALENDAR