BEGIN:VCALENDAR
VERSION:2.0
PRODID:-//eventon.com NONSGML v1.0//EN
BEGIN:VEVENT
UID:69e71c3f4810e
DTSTAMP:20260421T084207
DTSTART:20210212T220000Z
DTEND:20210213T215900Z
LOCATION:
SUMMARY:Darmstadt (Fastnacht) 20:30
DESCRIPTION: Darmstadt (Fastnacht) 20:30
END:VEVENT
END:VCALENDAR