BEGIN:VCALENDAR
VERSION:2.0
PRODID:-//eventon.com NONSGML v1.0//EN
BEGIN:VEVENT
UID:69e6ff24e8250
DTSTAMP:20260421T063756
DTSTART:20220114T220000Z
DTEND:20220115T215900Z
LOCATION:
SUMMARY:Bad Harzburg\,  Bündheimer Schloss\,  Chill mal
DESCRIPTION: Bad Harzburg\,  Bündheimer Schloss\,  Chill mal
END:VEVENT
END:VCALENDAR