BEGIN:VCALENDAR
VERSION:2.0
PRODID:-//eventon.com NONSGML v1.0//EN
BEGIN:VEVENT
UID:69e6e5082d851
DTSTAMP:20260421T044632
DTSTART:20200523T220000Z
DTEND:20200524T215900Z
LOCATION:
SUMMARY:Weinstadt\,  Edeka\,  Comedy & Canapes (abgesagt)
DESCRIPTION: Weinstadt\,  Edeka\,  Comedy & Canapes (abgesagt)
END:VEVENT
END:VCALENDAR