BEGIN:VCALENDAR
VERSION:2.0
PRODID:-//eventon.com NONSGML v1.0//EN
BEGIN:VEVENT
UID:69e6b0e5afdb4
DTSTAMP:20260421T010405
DTSTART:20200519T220000Z
DTEND:20200520T215900Z
LOCATION:
SUMMARY:Trier\,  TUFA\,  Chill mal (verlegt auf 23.10.2020)
DESCRIPTION: Trier\,  TUFA\,  Chill mal (verlegt auf 23.10.2020)
END:VEVENT
END:VCALENDAR