BEGIN:VCALENDAR
VERSION:2.0
PRODID:-//eventon.com NONSGML v1.0//EN
BEGIN:VEVENT
UID:69e69b74ce677
DTSTAMP:20260420T233236
DTSTART:20211001T220000Z
DTEND:20211002T215900Z
LOCATION:
SUMMARY:Lahr\,  Vereinsheim TV Sulz\,  Chill mal (Tickets: 07821 3650)
DESCRIPTION: Lahr\,  Vereinsheim TV Sulz\,  Chill mal (Tickets: 07821 3650)
END:VEVENT
END:VCALENDAR