BEGIN:VCALENDAR
VERSION:2.0
PRODID:-//eventon.com NONSGML v1.0//EN
BEGIN:VEVENT
UID:69e68198cf954
DTSTAMP:20260420T214216
DTSTART:20211014T220000Z
DTEND:20211015T215900Z
LOCATION:
SUMMARY:Bremen\,  KITO\,  Abenteuer Pubertät
DESCRIPTION: Bremen\,  KITO\,  Abenteuer Pubertät
END:VEVENT
END:VCALENDAR