BEGIN:VCALENDAR
VERSION:2.0
PRODID:-//eventon.com NONSGML v1.0//EN
BEGIN:VEVENT
UID:69e669aadedfd
DTSTAMP:20260420T200010
DTSTART:20201023T220000Z
DTEND:20201024T215900Z
LOCATION:
SUMMARY:Roxheim\,  Birkenberghalle\,  Chill mal
DESCRIPTION: Roxheim\,  Birkenberghalle\,  Chill mal
END:VEVENT
END:VCALENDAR