BEGIN:VCALENDAR
VERSION:2.0
PRODID:-//eventon.com NONSGML v1.0//EN
BEGIN:VEVENT
UID:69e65017df61b
DTSTAMP:20260420T181103
DTSTART:20210605T220000Z
DTEND:20210606T215900Z
LOCATION:
SUMMARY:Wuppertal\,  Die Börse\,  Chill mal
DESCRIPTION: Wuppertal\,  Die Börse\,  Chill mal
END:VEVENT
END:VCALENDAR