BEGIN:VCALENDAR
VERSION:2.0
PRODID:-//eventon.com NONSGML v1.0//EN
BEGIN:VEVENT
UID:69e636dd3004c
DTSTAMP:20260420T162325
DTSTART:20220127T220000Z
DTEND:20220128T215900Z
LOCATION:
SUMMARY:Balingen\,  Stadthalle\,  Abenteuer Pubertät
DESCRIPTION: Balingen\,  Stadthalle\,  Abenteuer Pubertät
END:VEVENT
END:VCALENDAR