BEGIN:VCALENDAR
VERSION:2.0
PRODID:-//eventon.com NONSGML v1.0//EN
BEGIN:VEVENT
UID:69e6200c3c0f0
DTSTAMP:20260420T144604
DTSTART:20210826T220000Z
DTEND:20210827T215900Z
LOCATION:
SUMMARY:Lauda-Königshofen\,  Weinhaus Ruthardt\,  Chill mal
DESCRIPTION: Lauda-Königshofen\,  Weinhaus Ruthardt\,  Chill mal
END:VEVENT
END:VCALENDAR