BEGIN:VCALENDAR
VERSION:2.0
PRODID:-//eventon.com NONSGML v1.0//EN
BEGIN:VEVENT
UID:69e6091e223f6
DTSTAMP:20260420T130814
DTSTART:20201022T220000Z
DTEND:20201023T215900Z
LOCATION:
SUMMARY:Bad Aibling\,  Gymnasium\,  Chill mal
DESCRIPTION: Bad Aibling\,  Gymnasium\,  Chill mal
END:VEVENT
END:VCALENDAR