BEGIN:VCALENDAR
VERSION:2.0
PRODID:-//eventon.com NONSGML v1.0//EN
BEGIN:VEVENT
UID:69e5ef6ec4879
DTSTAMP:20260420T111838
DTSTART:20211016T220000Z
DTEND:20211017T215900Z
LOCATION:
SUMMARY:Darmstadt\,  Ernst-Ludwig-Saal\,  Chill mal
DESCRIPTION: Darmstadt\,  Ernst-Ludwig-Saal\,  Chill mal
END:VEVENT
END:VCALENDAR