BEGIN:VCALENDAR
VERSION:2.0
PRODID:-//eventon.com NONSGML v1.0//EN
BEGIN:VEVENT
UID:69e5bf2cc60c9
DTSTAMP:20260420T075244
DTSTART:20201024T220000Z
DTEND:20201025T215900Z
LOCATION:
SUMMARY:Frankfurt\,  Copper Bar Room\,  Chill mal (ABGESAGT)
DESCRIPTION: Frankfurt\,  Copper Bar Room\,  Chill mal (ABGESAGT)
END:VEVENT
END:VCALENDAR