BEGIN:VCALENDAR
VERSION:2.0
PRODID:-//eventon.com NONSGML v1.0//EN
BEGIN:VEVENT
UID:69e5a1b8cc0f8
DTSTAMP:20260420T054704
DTSTART:20210914T220000Z
DTEND:20210915T215900Z
LOCATION:
SUMMARY:Mainz\,  Unterhaus\,  Abenteuer Pubertät
DESCRIPTION: Mainz\,  Unterhaus\,  Abenteuer Pubertät
END:VEVENT
END:VCALENDAR