BEGIN:VCALENDAR
VERSION:2.0
PRODID:-//eventon.com NONSGML v1.0//EN
BEGIN:VEVENT
UID:69e58a1b13fe1
DTSTAMP:20260420T040619
DTSTART:20210128T220000Z
DTEND:20210128T220000Z
LOCATION:
SUMMARY:Bayreuth\,  Becher Bräu/Bechersaal\,  Chill mal
DESCRIPTION: Bayreuth\,  Becher Bräu/Bechersaal\,  Chill mal
END:VEVENT
END:VCALENDAR