BEGIN:VCALENDAR
VERSION:2.0
PRODID:-//eventon.com NONSGML v1.0//EN
BEGIN:VEVENT
UID:69e56e866d681
DTSTAMP:20260420T020838
DTSTART:20211113T220000Z
DTEND:20211114T215900Z
LOCATION:
SUMMARY:Köln\,  Stollwerck\,  Chill mal
DESCRIPTION: Köln\,  Stollwerck\,  Chill mal
END:VEVENT
END:VCALENDAR