BEGIN:VCALENDAR
VERSION:2.0
PRODID:-//eventon.com NONSGML v1.0//EN
BEGIN:VEVENT
UID:69e55980c2a82
DTSTAMP:20260420T003856
DTSTART:20220309T220000Z
DTEND:20220310T215900Z
LOCATION:
SUMMARY:Dresden (Humorzone Festival)\,  Schauburg\,  Abenteuer Pubertät
DESCRIPTION: Dresden (Humorzone Festival)\,  Schauburg\,  Abenteuer Pubertät
END:VEVENT
END:VCALENDAR