BEGIN:VCALENDAR
VERSION:2.0
PRODID:-//eventon.com NONSGML v1.0//EN
BEGIN:VEVENT
UID:69e5403abf5b4
DTSTAMP:20260419T225106
DTSTART:20210909T220000Z
DTEND:20210909T220000Z
LOCATION:
SUMMARY:Uhldingen-Mühlhofen\,  Alte Fabrik\,  Chill mal
DESCRIPTION: Uhldingen-Mühlhofen\,  Alte Fabrik\,  Chill mal
END:VEVENT
END:VCALENDAR