BEGIN:VCALENDAR
VERSION:2.0
PRODID:-//eventon.com NONSGML v1.0//EN
BEGIN:VEVENT
UID:69e5205ebc411
DTSTAMP:20260419T203510
DTSTART:20210916T220000Z
DTEND:20210916T220000Z
LOCATION:
SUMMARY:Krefeld\,  Südbahnhof\,  Abenteuer Pubertät
DESCRIPTION: Krefeld\,  Südbahnhof\,  Abenteuer Pubertät
END:VEVENT
END:VCALENDAR