BEGIN:VCALENDAR
VERSION:2.0
PRODID:-//eventon.com NONSGML v1.0//EN
BEGIN:VEVENT
UID:69e50a3dc7776
DTSTAMP:20260419T190045
DTSTART:20210714T220000Z
DTEND:20210714T220000Z
LOCATION:
SUMMARY:Stuttgart\,  Renitenz Theater\,  Chill mal
DESCRIPTION: Stuttgart\,  Renitenz Theater\,  Chill mal
END:VEVENT
END:VCALENDAR