BEGIN:VCALENDAR
VERSION:2.0
PRODID:-//eventon.com NONSGML v1.0//EN
BEGIN:VEVENT
UID:69e509843d437
DTSTAMP:20260419T185740
DTSTART:20210422T220000Z
DTEND:20210423T215900Z
LOCATION:
SUMMARY:Frankfurt\,  Copper Bar Room\,  Abenteuer Pubertät
DESCRIPTION: Frankfurt\,  Copper Bar Room\,  Abenteuer Pubertät
END:VEVENT
END:VCALENDAR