BEGIN:VCALENDAR
VERSION:2.0
PRODID:-//eventon.com NONSGML v1.0//EN
BEGIN:VEVENT
UID:69e4dbb5945af
DTSTAMP:20260419T154213
DTSTART:20220204T220000Z
DTEND:20220205T215900Z
LOCATION:
SUMMARY:Düsseldorf\,  Capitol Theater\,  Chill mal
DESCRIPTION: Düsseldorf\,  Capitol Theater\,  Chill mal
END:VEVENT
END:VCALENDAR