BEGIN:VCALENDAR
VERSION:2.0
PRODID:-//eventon.com NONSGML v1.0//EN
BEGIN:VEVENT
UID:69e4c5eeed346
DTSTAMP:20260419T140918
DTSTART:20200722T220000Z
DTEND:20200723T215900Z
LOCATION:
SUMMARY:Kalkar\,  Zelt auf dem Marktplatz Kalkar\,  Chill mal (verlagt auf 22.07.2021)
DESCRIPTION: Kalkar\,  Zelt auf dem Marktplatz Kalkar\,  Chill mal (verlagt auf 22.07.2021)
END:VEVENT
END:VCALENDAR